BEGIN:VCALENDAR
VERSION:2.0
PRODID:-//wp-events-plugin.com//7.2.3.1//EN
TZID:Europe/Berlin
X-WR-TIMEZONE:Europe/Berlin
BEGIN:VEVENT
UID:61@schifffahrtsgeschichte.de
DTSTART;TZID=Europe/Berlin:20260429T190000
DTEND;TZID=Europe/Berlin:20260429T210000
DTSTAMP:20260417T225537Z
URL:https://schifffahrtsgeschichte.de/events/filmabend-seebaederschiff-wap
 pen-von-hamburg/
SUMMARY:Filmabend "Seebäderschiff Wappen von Hamburg"
DESCRIPTION:Vierzig Jahre lang war das Seebäderschiff "MS Wappen von Hambu
 rg" auf der Route zwischen Cuxhaven und Helgoland eingesetzt. Cuxhavens Ma
 ritimfilmer Günther Ennulat hat die "Wappen" über die Jahre begleitet\, 
 u.a. auch auf ihrer letzten Reise nach Helgoland im September 2006. Sein F
 ilm ist eine Liebeserklärung an das ikonische und elegante weiße Schiff.
 \n\n\n\n[video width="1278" height="708" mp4="https://schifffahrtsgeschich
 te.de/wp-content/uploads/2026/03/04-Trailer-MS-Wappen-von-Hamburg.mp4"][/v
 ideo]
ATTACH;FMTTYPE=image/jpeg:https://schifffahrtsgeschichte.de/wp-content/upl
 oads/2026/03/Plakat-Seebaederschiff-Wappen-vom-Hamburg-260429-scaled.jpg
CATEGORIES:Filmabend
LOCATION:ForumMaritim\, Ohlroggestraße 1\, Cuxhaven\, Niedersachsen\, 2747
 2\, Deutschland
X-APPLE-STRUCTURED-LOCATION;VALUE=URI;X-ADDRESS=Ohlroggestraße 1\, Cuxhave
 n\, Niedersachsen\, 27472\, Deutschland;X-APPLE-RADIUS=100;X-TITLE=ForumMa
 ritim:geo:0,0
END:VEVENT
BEGIN:VTIMEZONE
TZID:Europe/Berlin
X-LIC-LOCATION:Europe/Berlin
BEGIN:DAYLIGHT
DTSTART:20260329T030000
TZOFFSETFROM:+0100
TZOFFSETTO:+0200
TZNAME:CEST
END:DAYLIGHT
END:VTIMEZONE
END:VCALENDAR