BEGIN:VCALENDAR
VERSION:2.0
PRODID:-//wp-events-plugin.com//7.2.3.1//EN
TZID:Europe/Berlin
X-WR-TIMEZONE:Europe/Berlin
BEGIN:VEVENT
UID:65@schifffahrtsgeschichte.de
DTSTART;TZID=Europe/Berlin:20260624T190000
DTEND;TZID=Europe/Berlin:20260624T210000
DTSTAMP:20260303T143749Z
URL:https://schifffahrtsgeschichte.de/events/filmabend-vom-wasser-umgeben/
SUMMARY:Filmabend: Vom Wasser umgeben
DESCRIPTION:Vom Wasser umgeben: Cuxhaven in verschiedenen Jahreszeiten
ATTACH;FMTTYPE=image/jpeg:https://schifffahrtsgeschichte.de/wp-content/upl
 oads/2026/03/Plakat-Vom-Wasser-umgeben-2026-scaled.jpg
CATEGORIES:Filmabend
LOCATION:ForumMaritim\, Ohlroggestraße 1\, Cuxhaven\, Niedersachsen\, 2747
 2\, Deutschland
X-APPLE-STRUCTURED-LOCATION;VALUE=URI;X-ADDRESS=Ohlroggestraße 1\, Cuxhave
 n\, Niedersachsen\, 27472\, Deutschland;X-APPLE-RADIUS=100;X-TITLE=ForumMa
 ritim:geo:0,0
END:VEVENT
BEGIN:VTIMEZONE
TZID:Europe/Berlin
X-LIC-LOCATION:Europe/Berlin
BEGIN:DAYLIGHT
DTSTART:20260329T030000
TZOFFSETFROM:+0100
TZOFFSETTO:+0200
TZNAME:CEST
END:DAYLIGHT
END:VTIMEZONE
END:VCALENDAR