BEGIN:VCALENDAR
VERSION:2.0
PRODID:-//wp-events-plugin.com//7.2.3.1//EN
TZID:Europe/Berlin
X-WR-TIMEZONE:Europe/Berlin
BEGIN:VEVENT
UID:62@schifffahrtsgeschichte.de
DTSTART;TZID=Europe/Berlin:20260513T190000
DTEND;TZID=Europe/Berlin:20260513T210000
DTSTAMP:20260405T211058Z
URL:https://schifffahrtsgeschichte.de/events/sm-u-16/
SUMMARY:Filmabend: Das Uboot "SM U 16"
DESCRIPTION:[caption id="attachment_3849" align="alignnone" width="1024"] O
 LYMPUS DIGITAL CAMERA[/caption]\n\nFoto: Hartmut Mester\n\nAnfang Septembe
 r 2025 wurde vor Cuxhaven das 1919 gesunkene U-Boot "SM U16" gehoben. In s
 einer Filmdokumentation "SM U16. Ein Denkmal der Technik. Ein Mahnmal des 
 Krieges" begleitet Hartmut Mester nicht nur das weitere Schicksal des Wrac
 ks\, sondern verdeutlicht auch\, wie viel High-Tech in dieser Waffe des 1.
  Weltkriegs steckte.\n\n[video width="1920" height="1080" mp4="https://sch
 ifffahrtsgeschichte.de/wp-content/uploads/2026/03/SM-U16-Trailer.mp4"][/vi
 deo]
ATTACH;FMTTYPE=image/jpeg:https://schifffahrtsgeschichte.de/wp-content/upl
 oads/2026/03/Plakat-Uboot-SM-U-16-260513-scaled.jpg
CATEGORIES:Filmabend
LOCATION:ForumMaritim\, Ohlroggestraße 1\, Cuxhaven\, Niedersachsen\, 2747
 2\, Deutschland
X-APPLE-STRUCTURED-LOCATION;VALUE=URI;X-ADDRESS=Ohlroggestraße 1\, Cuxhave
 n\, Niedersachsen\, 27472\, Deutschland;X-APPLE-RADIUS=100;X-TITLE=ForumMa
 ritim:geo:0,0
END:VEVENT
BEGIN:VTIMEZONE
TZID:Europe/Berlin
X-LIC-LOCATION:Europe/Berlin
BEGIN:DAYLIGHT
DTSTART:20260329T030000
TZOFFSETFROM:+0100
TZOFFSETTO:+0200
TZNAME:CEST
END:DAYLIGHT
END:VTIMEZONE
END:VCALENDAR