BEGIN:VCALENDAR
VERSION:2.0
PRODID:-//wp-events-plugin.com//7.2.3.1//EN
TZID:Europe/Berlin
X-WR-TIMEZONE:Europe/Berlin
BEGIN:VEVENT
UID:63@schifffahrtsgeschichte.de
DTSTART;TZID=Europe/Berlin:20260527T190000
DTEND;TZID=Europe/Berlin:20260527T210000
DTSTAMP:20260303T142459Z
URL:https://schifffahrtsgeschichte.de/events/themenabend-towmaster/
SUMMARY:Themenabend: Towmaster
DESCRIPTION:Norbert Harms hat in seinem langen Arbeitsleben als Schlepperka
 pitän viele interessante und zuweilen auch riskante Einsätze gefahren. K
 ein Projekt hat ihm aber so viele schlaflose Nächte bereitet wie ein Job\
 , den seine Reederei 2011 übernommen hatte. Es galt\, ein 7700 t schweres
  Betonteil aus dem Wilhelmshavener Hafen durch die Seeschleuse bis an sein
 e Bestimmungsposition Jade-aufwärts zu schleppen und dort abzusenken. Das
  Problem: Der fast 60 m lange Koloss durfte während der gesamten Prozedur
  allenfalls minimalste Schräglage bekommen. Auch der Tiefgang von über 1
 1 m stellte im Hafengebiet ein nicht geringes Problem dar.\n\n\n\nIm Rahme
 n eines Themenabends wird Norbert Harms nochmals von diesem spektakulären
  Schleppereinsatz berichten. Als "Towmaster" oblag ihm damals nicht nur di
 e Weisungsbefugnis für die sechs beteiligten Schlepper\, sondern auch die
  gesamte Planung und Vorbereitungen des riskanten Einsatzes. Denn klar war
 : Sollte das riesige Betonteil im Hafengebiet kentern\, hätte das möglic
 herweise eine komplette Blockade des Marinehafens zur Folge haben können!
  Und auch die zentimetergenaue Positionierung des Kühlwasser-Eintrittsmod
 uls querab des Wilhelmshavener Steinkohlenkraftwerks während der stundenl
 angen Absenkungsphase im Tiden- und Strömungsgewässer der Jade war ein J
 ob\, der das ganze Knowhow des erfahrenen Towmasters erforderte.\n\nIm zwe
 iten Teil des Themenabends zeigt der Förderverein dann einen Film von Gü
 nther Ennulat zum Hochseeschlepper "Orcus". Bei dem auf der Mützelfeldt-W
 erft gebauten Kraftpaket mit fast 25.000 PS handelt es sich um einen sogen
 annte AHT Schlepper (Anchor Handling Tug)\, umgangssprachlich auch "Ankerz
 iehschlepper" genannt. Der Aufgabenbereich dieser Spezialschiffe liegt vor
  allem bei der Unterstützung bei Offshore-Bohrungen oder der Verlegung vo
 n Rohrleitungen.
ATTACH;FMTTYPE=image/jpeg:https://schifffahrtsgeschichte.de/wp-content/upl
 oads/2026/03/Plakat-Themenabend-Ankerziehschlepper-260527-scaled.jpg
CATEGORIES:Filmabend
LOCATION:ForumMaritim\, Ohlroggestraße 1\, Cuxhaven\, Niedersachsen\, 2747
 2\, Deutschland
X-APPLE-STRUCTURED-LOCATION;VALUE=URI;X-ADDRESS=Ohlroggestraße 1\, Cuxhave
 n\, Niedersachsen\, 27472\, Deutschland;X-APPLE-RADIUS=100;X-TITLE=ForumMa
 ritim:geo:0,0
END:VEVENT
BEGIN:VTIMEZONE
TZID:Europe/Berlin
X-LIC-LOCATION:Europe/Berlin
BEGIN:DAYLIGHT
DTSTART:20260329T030000
TZOFFSETFROM:+0100
TZOFFSETTO:+0200
TZNAME:CEST
END:DAYLIGHT
END:VTIMEZONE
END:VCALENDAR