BEGIN:VCALENDAR
VERSION:2.0
PRODID:spatie/icalendar-generator
DESCRIPTION:Veranstaltungen von Förderverein Schifffahrtsgeschichte Cuxhav
 en e.V.
X-WR-CALDESC:Veranstaltungen von Förderverein Schifffahrtsgeschichte Cuxha
 ven e.V.
REFRESH-INTERVAL;VALUE=DURATION:PT1440M
X-PUBLISHED-TTL:PT1440M
BEGIN:VTIMEZONE
TZID:Europe/Berlin
BEGIN:STANDARD
DTSTART:20231029T030000Z
TZOFFSETFROM:+0200
TZOFFSETTO:+0100
END:STANDARD
BEGIN:DAYLIGHT
DTSTART:20240331T020000Z
TZOFFSETFROM:+0100
TZOFFSETTO:+0200
END:DAYLIGHT
END:VTIMEZONE
BEGIN:VTIMEZONE
TZID:UTC
BEGIN:STANDARD
DTSTART:20250725T185609Z
TZOFFSETFROM:+0000
TZOFFSETTO:+0000
END:STANDARD
END:VTIMEZONE
BEGIN:VEVENT
UID:98-26
DTSTAMP:20260421T185609Z
SUMMARY:Filmabend: Schlepper und andere Spezialisten
LOCATION:Forum Maritim Ohlroggestraße 1  Cuxhaven  27472
ORGANIZER;CN=RedJ:MAILTO:jenny.sarrazin@gmx.de
DTSTART;TZID=Europe/Berlin:20240228T190000
DTEND;TZID=Europe/Berlin:20240228T200000
X-ALT-DESC;FMTTYPE=TEXT/HTML:Ohne Schlepper und andere Spezialschiffe geht 
 in den Häfen und auf See gar nichts! Günther Ennulat stellt in seinem Fi
 lm diese \"Arbeitspferde\" der Schifffahrt vor.
CATEGORIES:General
URL;VALUE=URI:https://schifffahrtsgeschichte.de/mc-events/filmabend-schlepp
 er-und-andere-spezialisten/
METHOD:PUBLISH
END:VEVENT
END:VCALENDAR