BEGIN:VCALENDAR
VERSION:2.0
PRODID:spatie/icalendar-generator
DESCRIPTION:Veranstaltungen von Förderverein Schifffahrtsgeschichte Cuxhav
 en e.V.
X-WR-CALDESC:Veranstaltungen von Förderverein Schifffahrtsgeschichte Cuxha
 ven e.V.
REFRESH-INTERVAL;VALUE=DURATION:PT1440M
X-PUBLISHED-TTL:PT1440M
BEGIN:VTIMEZONE
TZID:Europe/Berlin
BEGIN:STANDARD
DTSTART:20251026T030000Z
TZOFFSETFROM:+0200
TZOFFSETTO:+0100
END:STANDARD
BEGIN:DAYLIGHT
DTSTART:20260329T020000Z
TZOFFSETFROM:+0100
TZOFFSETTO:+0200
END:DAYLIGHT
BEGIN:STANDARD
DTSTART:20261025T030000Z
TZOFFSETFROM:+0200
TZOFFSETTO:+0100
END:STANDARD
END:VTIMEZONE
BEGIN:VTIMEZONE
TZID:UTC
BEGIN:STANDARD
DTSTART:20250726T111717Z
TZOFFSETFROM:+0000
TZOFFSETTO:+0000
END:STANDARD
END:VTIMEZONE
BEGIN:VEVENT
UID:327-87
DTSTAMP:20260422T111717Z
SUMMARY:Filmabend \"Seebäderschiff Wappen von Hamburg\"
LOCATION:Forum Maritim Ohlroggestraße 1  Cuxhaven  27472
ORGANIZER;CN=RedJ:MAILTO:jenny.sarrazin@gmx.de
DTSTART;TZID=Europe/Berlin:20260429T190000
DTEND;TZID=Europe/Berlin:20260429T200000
X-ALT-DESC;FMTTYPE=TEXT/HTML:Vierzig Jahre lang war das Seebäderschiff \"M
 S Wappen von Hamburg\" auf der Route zwischen Cuxhaven und Helgoland einge
 setzt. Cuxhavens Maritimfilmer Günther Ennulat hat die \"Wappen\" über d
 ie Jahre begleitet\, u.a. auch auf ihrer letzten Reise nach Helgoland im S
 eptember 2006. Sein Film ist eine Liebeserklärung an das ikonische und el
 egante weiße Schiff.
CATEGORIES:General
URL;VALUE=URI:https://schifffahrtsgeschichte.de/mc-events/filmabend-seebaed
 erschiff-wappen-von-hamburg/
METHOD:PUBLISH
END:VEVENT
END:VCALENDAR